BEGIN:VCALENDAR
VERSION:2.0
PRODID:-//ChamberMaster//Event Calendar 2.0//EN
METHOD:PUBLISH
X-PUBLISHED-TTL:P3D
REFRESH-INTERVAL:P3D
CALSCALE:GREGORIAN
BEGIN:VEVENT
DTSTART:20120823T210000Z
DTEND:20120824T010000Z
X-MICROSOFT-CDO-ALLDAYEVENT:FALSE
SUMMARY:Sidewalk Sale
DESCRIPTION:Come on out to the 4700 block of N. Lincoln Avenue to find deals\, treats\, and unique items of all kinds during the first week of Lincoln Square's sidewalk sale!\n\n	\n\n	Lincoln Square Sidewalk Sale will be held Wednesday\, August 22nd and Thursday\, August 23rd between Leland and Lawrence on Lincoln Avenue.\n\n	 \n	\n		\n\n		Participating Businesses Include:\n	\n		\n			\n		\n		\n			\n				\n					A Little Bit of Monica \n			\n			\n				\n					Amy's Candy Bar\n			\n			\n				\n					Brew Camp\n			\n			\n				\n					Dressing Room\n			\n			\n				\n					Enjoy\, an urban general store\n			\n			\n				\n					Friends of McPherson\n			\n			\n				\n					Granville Picture Framing\n			\n			\n				\n					Marbles: The Brain Store\n			\n			\n				\n					Merz Apothecary\n			\n			\n				\n					Nomadic Ant\n			\n			\n				\n					Pickle's Playroom\n			\n			\n				\n					Planet Access Company Store\n			\n			\n				\n					Ruff Haus Pets\n			\n			\n				\n					Sacred Art\n			\n			\n				\n					Salamander Shoes\n			\n			\n				\n					Savvy Seconds and 1sts\n			\n			\n				\n					Spex Chicago\n			\n			\n				\n					The Giving Tree\n			\n			\n				\n					Timeless Toys\n			\n			\n				\n					Tori's Bitty Bows\n			\n			\n				\n					Urban Pooch
X-ALT-DESC;FMTTYPE=text/html:<div style="color: gray">\n	<br />\n	Come on out to the 4700 block of N. Lincoln Avenue to find deals\, treats\, and&nbsp\;unique items&nbsp\;of all kinds during the first week of Lincoln Square&#39\;s sidewalk sale!<br />\n	<br />\n	Lincoln Square Sidewalk Sale will be held Wednesday\, August 22nd and Thursday\, August 23rd between Leland and Lawrence on Lincoln Avenue.<br />\n	&nbsp\;\n	<p>\n		<br />\n		<strong><u>Participating Businesses Include:</u></strong></p>\n	<table border="0" cellpadding="0" cellspacing="0" width="198">\n		<colgroup>\n			<col style="width: 199px" />\n		</colgroup>\n		<tbody>\n			<tr height="20" style="height: 20px">\n				<td height="20" style="width: 199px\; height: 20px">\n					A Little Bit of Monica&nbsp\;</td>\n			</tr>\n			<tr height="20" style="height: 20px">\n				<td height="20" style="height: 20px\; border-top: medium none">\n					Amy&#39\;s Candy Bar</td>\n			</tr>\n			<tr height="20" style="height: 20px">\n				<td height="20" style="height: 20px\; border-top: medium none">\n					Brew Camp</td>\n			</tr>\n			<tr height="20" style="height: 20px">\n				<td height="20" style="height: 20px\; border-top: medium none">\n					Dressing Room</td>\n			</tr>\n			<tr height="20" style="height: 20px">\n				<td height="20" style="height: 20px\; border-top: medium none">\n					Enjoy\, an urban general store</td>\n			</tr>\n			<tr height="20" style="height: 20px">\n				<td height="20" style="height: 20px\; border-top: medium none">\n					Friends of McPherson</td>\n			</tr>\n			<tr height="20" style="height: 20px">\n				<td height="20" style="height: 20px\; border-top: medium none">\n					Granville Picture Framing</td>\n			</tr>\n			<tr height="20" style="height: 20px">\n				<td height="20" style="height: 20px\; border-top: medium none">\n					Marbles: The Brain Store</td>\n			</tr>\n			<tr height="20" style="height: 20px">\n				<td height="20" style="height: 20px\; border-top: medium none">\n					Merz Apothecary</td>\n			</tr>\n			<tr height="20" style="height: 20px">\n				<td height="20" style="height: 20px\; border-top: medium none">\n					Nomadic Ant</td>\n			</tr>\n			<tr height="20" style="height: 20px">\n				<td height="20" style="height: 20px\; border-top: medium none">\n					Pickle&#39\;s Playroom</td>\n			</tr>\n			<tr height="20" style="height: 20px">\n				<td height="20" style="height: 20px\; border-top: medium none">\n					Planet Access Company Store</td>\n			</tr>\n			<tr height="20" style="height: 20px">\n				<td height="20" style="height: 20px\; border-top: medium none">\n					Ruff Haus Pets</td>\n			</tr>\n			<tr height="20" style="height: 20px">\n				<td height="20" style="height: 20px\; border-top: medium none">\n					Sacred Art</td>\n			</tr>\n			<tr height="20" style="height: 20px">\n				<td height="20" style="height: 20px\; border-top: medium none">\n					Salamander Shoes</td>\n			</tr>\n			<tr height="20" style="height: 20px">\n				<td height="20" style="height: 20px\; border-top: medium none">\n					Savvy Seconds and 1sts</td>\n			</tr>\n			<tr height="20" style="height: 20px">\n				<td height="20" style="height: 20px\; border-top: medium none">\n					Spex Chicago</td>\n			</tr>\n			<tr height="20" style="height: 20px">\n				<td height="20" style="height: 20px\; border-top: medium none">\n					The Giving Tree</td>\n			</tr>\n			<tr height="20" style="height: 20px">\n				<td height="20" style="height: 20px\; border-top: medium none">\n					Timeless Toys</td>\n			</tr>\n			<tr height="20" style="height: 20px">\n				<td height="20" style="height: 20px\; border-top: medium none">\n					Tori&#39\;s Bitty Bows</td>\n			</tr>\n			<tr height="20" style="height: 20px">\n				<td height="20" style="height: 20px\; border-top: medium none">\n					Urban Pooch</td>\n			</tr>\n		</tbody>\n	</table>\n</div>\n
LOCATION:Along the entire 4700 block of N. Lincoln Ave (between Lawrence and Leland).
UID:e.697.3621
SEQUENCE:3
DTSTAMP:20260419T205131Z
URL:http://business.lincolnsquare.org/events/details/sidewalk-sale-3621
END:VEVENT

END:VCALENDAR
